BEGIN:VCALENDAR
VERSION:2.0
PRODID:-//Ort Unkelbach - ECPv6.15.20//NONSGML v1.0//EN
CALSCALE:GREGORIAN
METHOD:PUBLISH
X-WR-CALNAME:Ort Unkelbach
X-ORIGINAL-URL:https://ort-unkelbach.de
X-WR-CALDESC:Veranstaltungen für Ort Unkelbach
REFRESH-INTERVAL;VALUE=DURATION:PT1H
X-Robots-Tag:noindex
X-PUBLISHED-TTL:PT1H
BEGIN:VTIMEZONE
TZID:Europe/Berlin
BEGIN:DAYLIGHT
TZOFFSETFROM:+0100
TZOFFSETTO:+0200
TZNAME:CEST
DTSTART:20240331T010000
END:DAYLIGHT
BEGIN:STANDARD
TZOFFSETFROM:+0200
TZOFFSETTO:+0100
TZNAME:CET
DTSTART:20241027T010000
END:STANDARD
BEGIN:DAYLIGHT
TZOFFSETFROM:+0100
TZOFFSETTO:+0200
TZNAME:CEST
DTSTART:20250330T010000
END:DAYLIGHT
BEGIN:STANDARD
TZOFFSETFROM:+0200
TZOFFSETTO:+0100
TZNAME:CET
DTSTART:20251026T010000
END:STANDARD
BEGIN:DAYLIGHT
TZOFFSETFROM:+0100
TZOFFSETTO:+0200
TZNAME:CEST
DTSTART:20260329T010000
END:DAYLIGHT
BEGIN:STANDARD
TZOFFSETFROM:+0200
TZOFFSETTO:+0100
TZNAME:CET
DTSTART:20261025T010000
END:STANDARD
BEGIN:DAYLIGHT
TZOFFSETFROM:+0100
TZOFFSETTO:+0200
TZNAME:CEST
DTSTART:20270328T010000
END:DAYLIGHT
BEGIN:STANDARD
TZOFFSETFROM:+0200
TZOFFSETTO:+0100
TZNAME:CET
DTSTART:20271031T010000
END:STANDARD
END:VTIMEZONE
BEGIN:VEVENT
DTSTART;TZID=Europe/Berlin:20260315T000000
DTEND;TZID=Europe/Berlin:20260315T235959
DTSTAMP:20260419T171915
CREATED:20251016T160837Z
LAST-MODIFIED:20251016T161231Z
UID:739-1773532800-1773619199@ort-unkelbach.de
SUMMARY:Frühlingsbasar
DESCRIPTION:
URL:https://ort-unkelbach.de/event/fruehlingsbasar/
LOCATION:Mehrzweckhalle Unkelbach
END:VEVENT
BEGIN:VEVENT
DTSTART;TZID=Europe/Berlin:20260228T000000
DTEND;TZID=Europe/Berlin:20260228T235959
DTSTAMP:20260419T171915
CREATED:20251016T160812Z
LAST-MODIFIED:20251016T161247Z
UID:737-1772236800-1772323199@ort-unkelbach.de
SUMMARY:Dreck weg Tag
DESCRIPTION:
URL:https://ort-unkelbach.de/event/dreck-weg-tag/
LOCATION:Mehrzweckhallenplatz\, Oedingerstraße 18\, Remagen\, 53424\, Germany
END:VEVENT
BEGIN:VEVENT
DTSTART;TZID=Europe/Berlin:20260212T000000
DTEND;TZID=Europe/Berlin:20260212T235959
DTSTAMP:20260419T171915
CREATED:20251016T160750Z
LAST-MODIFIED:20251016T161304Z
UID:735-1770854400-1770940799@ort-unkelbach.de
SUMMARY:Weiberfastnacht
DESCRIPTION:
URL:https://ort-unkelbach.de/event/weiberfastnacht/
LOCATION:Mehrzweckhalle Unkelbach
END:VEVENT
BEGIN:VEVENT
DTSTART;TZID=Europe/Berlin:20260131T000000
DTEND;TZID=Europe/Berlin:20260131T235959
DTSTAMP:20260419T171915
CREATED:20251016T160708Z
LAST-MODIFIED:20251016T161318Z
UID:733-1769817600-1769903999@ort-unkelbach.de
SUMMARY:Ruut und wieß Nacht
DESCRIPTION:
URL:https://ort-unkelbach.de/event/ruut-und-wiess-nacht/
LOCATION:Mehrzweckhalle Unkelbach
ORGANIZER;CN="Rot-Weisse Funken Unkelbach e.V.":MAILTO:info@rot-weissefunken.de
END:VEVENT
BEGIN:VEVENT
DTSTART;TZID=Europe/Berlin:20260118T100000
DTEND;TZID=Europe/Berlin:20260118T170000
DTSTAMP:20260419T171915
CREATED:20250911T174521Z
LAST-MODIFIED:20250911T174521Z
UID:683-1768730400-1768755600@ort-unkelbach.de
SUMMARY:Rut & Wiess Sitzung
DESCRIPTION:
URL:https://ort-unkelbach.de/event/rut-wiess-sitzung/
LOCATION:Mehrzweckhalle Unkelbach
ORGANIZER;CN="Rot-Weisse Funken Unkelbach e.V.":MAILTO:info@rot-weissefunken.de
END:VEVENT
BEGIN:VEVENT
DTSTART;TZID=Europe/Berlin:20251115T180000
DTEND;TZID=Europe/Berlin:20251115T233000
DTSTAMP:20260419T171915
CREATED:20250829T180952Z
LAST-MODIFIED:20250829T180952Z
UID:666-1763229600-1763249400@ort-unkelbach.de
SUMMARY:Sankt Martin
DESCRIPTION:
URL:https://ort-unkelbach.de/event/sankt-martin/
LOCATION:Mehrzweckhallenplatz\, Oedingerstraße 18\, Remagen\, 53424\, Germany
END:VEVENT
BEGIN:VEVENT
DTSTART;TZID=Europe/Berlin:20251025T190000
DTEND;TZID=Europe/Berlin:20251026T030000
DTSTAMP:20260419T171915
CREATED:20250829T165406Z
LAST-MODIFIED:20250829T165406Z
UID:638-1761418800-1761447600@ort-unkelbach.de
SUMMARY:Oktoberfest
DESCRIPTION:
URL:https://ort-unkelbach.de/event/oktoberfest/
LOCATION:Mehrzweckhalle Unkelbach
END:VEVENT
BEGIN:VEVENT
DTSTART;TZID=Europe/Berlin:20251002T000000
DTEND;TZID=Europe/Berlin:20251006T235959
DTSTAMP:20260419T171915
CREATED:20250829T165210Z
LAST-MODIFIED:20250829T165210Z
UID:636-1759363200-1759795199@ort-unkelbach.de
SUMMARY:Kirmes in Unkelbach
DESCRIPTION:
URL:https://ort-unkelbach.de/event/kirmes-in-unkelbach/
LOCATION:Mehrzweckhalle Unkelbach
END:VEVENT
END:VCALENDAR